BEGIN:VCALENDAR
PRODID:NingEventWidget-v1
VERSION:2.0
METHOD:PUBLISH
BEGIN:VEVENT
UID:4320450:Event:40902
DTSTAMP:20260425T144337Z
SUMMARY:Shooting Stars & Sâ€™mores
DESCRIPTION:More than 60 meteors shoot through the sky every hour duri
 ng theÂ Perseid Meteor showerÂ â€“ so join us to watch these falling s
 tars. Â A new moon on August 14 means conditions will be perfect to se
 e this natural phenomenon. Â Weâ€™ll use telescopes to take a close lo
 ok at planets and stars. Â Afterward, relax fireside for sâ€™mores and
  stories.\nThis event will run rain or shine â€“ if itâ€™s cloudy, weâ
 €™ll use software projections to understand the stars, and weâ€™ll be 
 making sâ€™mores no matter what.\nRegister online now!\n\nFor more inf
 ormation visit http://phillytodo.com/events/shooting-stars-s-mores
DTSTART:20150815T010000Z
DTEND:20150815T030000Z
CATEGORIES:stargazing
LOCATION:Schuylkill Center for Environmental Education
WEBSITE:
URL:
CONTACT:215-482-7300
ORGANIZER;CN="The Schuylkill Center":http://phillytodo.com/profile/Ann
 aLehrMueser
ATTACH;FMTTYPE="image/jpeg":http://storage.ning.com/topology/rest/1.0/
 file/get/3054988225?profile=original
ATTENDEE;ROLE=REQ-PARTICIPANT;PARTSTAT=ACCEPTED;RSVP=TRUE;CN="The Schu
 ylkill Center":http://phillytodo.com/profile/AnnaLehrMueser
END:VEVENT
END:VCALENDAR
