BEGIN:VCALENDAR
PRODID:NingEventWidget-v1
VERSION:2.0
METHOD:PUBLISH
BEGIN:VEVENT
UID:4320450:Event:37104
DTSTAMP:20260425T142701Z
SUMMARY:Shooting Stars and Sâ€™mores
DESCRIPTION:The Perseid meteor shower creates one of natureâ€™sÂ most 
 spectacular sky shows. Weâ€™ll use high-powerÂ telescopes to look deep
  into the vastness of spaceÂ and explore the galaxy (and beyond). Itâ€
 ™s NationalÂ Sâ€™mores Week, so join us around the fire for sâ€™moresÂ
  while we turn to the sky for star-gazing.\nRegister onlineÂ now!\n\nF
 or more information visit http://phillytodo.com/events/shooting-stars-
 and-s-mores
DTSTART:20140812T010000Z
DTEND:20140812T030000Z
CATEGORIES:family, star-gazing
LOCATION:The Schuylkill Center for Environmental Education
WEBSITE:http://www.schuylkillcenter.org/
URL:http://www.schuylkillcenter.org/
CONTACT:215-482-7300
ORGANIZER;CN="The Schuylkill Center":http://phillytodo.com/profile/Ann
 aLehrMueser
ATTACH;FMTTYPE="image/jpeg":http://storage.ning.com/topology/rest/1.0/
 file/get/3054975462?profile=original
ATTENDEE;ROLE=REQ-PARTICIPANT;PARTSTAT=ACCEPTED;RSVP=TRUE;CN="The Schu
 ylkill Center":http://phillytodo.com/profile/AnnaLehrMueser
END:VEVENT
END:VCALENDAR
