BEGIN:VCALENDAR
PRODID:NingEventWidget-v1
VERSION:2.0
METHOD:PUBLISH
BEGIN:VEVENT
UID:4320450:Event:25704
DTSTAMP:20260425T155908Z
SUMMARY:Shofuso Japanese House and Garden with Sakura Pavilion Grand O
 pening Weekend
DESCRIPTION:Saturday, March 31 will be a kagami biraki (ceremonial sak
 e cask breaking) to inaugurate the new Sakura Pavilion and open the Sh
 ofuso 2012 season!  Throughout Opening Weekend, enjoy the Shofuso Vie
 ws photography exhibition, taiko drumming by KyoDaiko, kamishibai stor
 ytelling, origami crafts, and other activities for the whole family. 1
 1 am - 5 pm. Free. Sakura Pavilion\n\nFor more information visit http:
 //phillytodo.com/events/shofuso-japanese-house-and-garden-with-sakura-
 pavilion-grand
DTSTART:20120331T150000Z
DTEND:20120331T210000Z
CATEGORIES:opening, "outdoors.", exhibitions, family, music, arts
LOCATION:Fairmount Park
WEBSITE:http://www.shofuso.com
URL:http://www.shofuso.com
CONTACT:215-878-5097
ORGANIZER;CN="Cari Feiler Bender":http://phillytodo.com/profile/CariFe
 ilerBender
ATTACH;FMTTYPE="image/jpeg":http://storage.ning.com/topology/rest/1.0/
 file/get/3054958332?profile=original
ATTENDEE;ROLE=REQ-PARTICIPANT;PARTSTAT=ACCEPTED;RSVP=TRUE;CN="Cari Fei
 ler Bender":http://phillytodo.com/profile/CariFeilerBender
END:VEVENT
END:VCALENDAR
