BEGIN:VCALENDAR
PRODID:NingEventWidget-v1
VERSION:2.0
METHOD:PUBLISH
BEGIN:VEVENT
UID:4320450:Event:1086
DTSTAMP:20260425T161825Z
SUMMARY:Shanti Yoga Shala
DESCRIPTION:\"What is Jivamukti Yoga?\": An Introduction to Jivamukti 
 Vinyasa Yoga with Shiya Mangel\nSunday February 28th\n12:30 - 2:30pm\n
 $30.00\nThe Jivamukti Yoga Method found in 1984 by Sharon Ganon and Da
 vid Life focuses on teaching and practicing yoga as a means to enlight
 enment. Jivamukti promotes the educational aspect of the practice and 
 gives students access to the origins of those ideas. Each class focuse
 s on a theme, which is supported by chanting, readings, references to 
 scriptural texts, music (from the Beatles to Moby), spoken word, Ashta
 nga based Vinyasa asana sequencing and yogic breathing practices. This
  workshop will introduce you to the Jivamukti Yoga practice including 
 the 4 tenants of Jivamukti Yoga, the Focus of the Month and the 14 poi
 nts that are the basis of every Jivamukti Class. We will work together
  to take the mystery and fear out of the practice by introducing the p
 hysical practice, the breath and the philosophical practice in an open
  and friendly environment with lots of explanation and time for questi
 ons. This workshop is appropriate for Yogis of all levels of experienc
 e, whether you are a beginner getting on the mat for the first time or
  an experienced student interested in learning more about Jivamukti.\n
 \nFor more information visit http://phillytodo.com/events/shanti-yoga-
 shala
DTSTART:20100228T173000Z
DTEND:20100228T193000Z
CATEGORIES:workshop
LOCATION:Shanti Yoga Shala
WEBSITE:http://www.shantiyogashala.org
URL:http://www.shantiyogashala.org
CONTACT:215.923.9642
ORGANIZER;CN="Shanti Yoga Shala":http://phillytodo.com/profile/ShantiY
 ogaShala
ATTACH;FMTTYPE="image/jpeg":http://storage.ning.com/topology/rest/1.0/
 file/get/3054945723?profile=original
ATTENDEE;ROLE=REQ-PARTICIPANT;PARTSTAT=ACCEPTED;RSVP=TRUE;CN="Shanti Y
 oga Shala":http://phillytodo.com/profile/ShantiYogaShala
END:VEVENT
END:VCALENDAR
