BEGIN:VCALENDAR
PRODID:NingEventWidget-v1
VERSION:2.0
METHOD:PUBLISH
BEGIN:VEVENT
UID:4320450:Event:40564
DTSTAMP:20260425T144258Z
SUMMARY:Shake it Up Saturdays
DESCRIPTION:Heat Up Your Saturday Afternoon with a Latin Dance Club! I
 ntro to Salsa, Bachatta & Merengue.  A playful, sensual & passionate 
 personality is highly suggested. No prior dance experience needed, sin
 gles are welcome! Class starts at 1:30pm.  Each participant will rece
 ive a $5 voucher to The Market & Shops at Comcast Center to quench you
 r thirst and a free class voucher for Society Hill Dance Academy.  RS
 VP to Cashman & Associates at cashmanandassociates.com/rsvp. \n\nFor 
 more information visit http://phillytodo.com/events/shake-it-up-saturd
 ays
DTSTART:20150418T173000Z
DTEND:20150418T210000Z
CATEGORIES:dance
LOCATION:The Market & Shops at Comcast Center
WEBSITE:https://www.facebook.com/events/424663191035868/
URL:https://www.facebook.com/events/424663191035868/
CONTACT:215-627-1060
ORGANIZER;CN=CashmanAssoc:http://phillytodo.com/profile/CashmanAssoc
ATTACH;FMTTYPE="image/jpeg":http://storage.ning.com/topology/rest/1.0/
 file/get/3054987149?profile=original
ATTENDEE;ROLE=REQ-PARTICIPANT;PARTSTAT=ACCEPTED;RSVP=TRUE;CN=CashmanAs
 soc:http://phillytodo.com/profile/CashmanAssoc
END:VEVENT
END:VCALENDAR
