BEGIN:VCALENDAR
PRODID:NingEventWidget-v1
VERSION:2.0
METHOD:PUBLISH
BEGIN:VEVENT
UID:4320450:Event:42833
DTSTAMP:20260425T142803Z
SUMMARY:Shake It Up Saturdays: Intro to Salsa, Bachata, & Merengue
DESCRIPTION:Warm up your Saturday afternoon with a spicy & lively coup
 le’s Salsa class with Society Hill Dance Academy. Grab a partner and
  join us for a FREE, energetic salsa dance lesson for two, no prior da
 nce experience needed! Each participant will receive a $5 voucher to T
 he Market & Shops at Comcast Center to quench your thirst; and a $50 g
 ift certificate and free class voucher from Society Hill Dance Academy
 !\n\nFor more information visit http://phillytodo.com/events/shake-it-
 up-saturdays-intro-to-salsa-bachata-merengue
DTSTART:20151107T183000Z
DTEND:20151107T203000Z
CATEGORIES:free, dance, lesson
LOCATION:The Market & Shops at Comcast Center
WEBSITE:https://www.facebook.com/events/439249266281803/
URL:https://www.facebook.com/events/439249266281803/
CONTACT:215-627-1060
ORGANIZER;CN=CashmanAssoc:http://phillytodo.com/profile/CashmanAssoc
ATTACH;FMTTYPE="image/jpeg":http://storage.ning.com/topology/rest/1.0/
 file/get/3054990436?profile=original
ATTENDEE;ROLE=REQ-PARTICIPANT;PARTSTAT=ACCEPTED;RSVP=TRUE;CN=CashmanAs
 soc:http://phillytodo.com/profile/CashmanAssoc
END:VEVENT
END:VCALENDAR
