BEGIN:VCALENDAR
PRODID:NingEventWidget-v1
VERSION:2.0
METHOD:PUBLISH
BEGIN:VEVENT
UID:4320450:Event:36760
DTSTAMP:20260425T133054Z
SUMMARY:Sexy Bingo at Nick's Roast Beef in Old City
DESCRIPTION:Tired of the same old Happy Hour? For good laughs and Naug
 hty Prizes, bring your friends to Sexy Bingo at Nick's Roast Beef in O
 ld City (16 S 2nd Street)! It's bingo with a sexy twist! Arrive by 5:3
 0pm to get your boards, as the games begin at 6pm. $15 gets you 15 gam
 es and a chance to win one of fifteen sexy goody bags, over $400 in pr
 izes! The fun is co-ed, so everyone over 21 is welcome to play. Call (
 215) 928-9411 for more info, or visit www.nicksroastbeefbarandgrille.c
 om.\n\nFor more information visit http://phillytodo.com/events/sexy-bi
 ngo-at-nick-s-roast-beef-in-old-city
DTSTART:20140622T213000Z
DTEND:20140623T010000Z
CATEGORIES:bingo
LOCATION:Old City
WEBSITE:http://www.nicksroastbeefbarandgrille.com
URL:http://www.nicksroastbeefbarandgrille.com
CONTACT:(215) 928-9411
ORGANIZER:Nick's Roast Beef
ATTACH;FMTTYPE="image/jpeg":http://storage.ning.com/topology/rest/1.0/
 file/get/3054974410?profile=original
ATTENDEE;ROLE=REQ-PARTICIPANT;PARTSTAT=ACCEPTED;RSVP=TRUE;CN="Aversa P
 R & Events":http://phillytodo.com/profile/KoryAversa277
END:VEVENT
END:VCALENDAR
