BEGIN:VCALENDAR
PRODID:NingEventWidget-v1
VERSION:2.0
METHOD:PUBLISH
BEGIN:VEVENT
UID:4320450:Event:1464
DTSTAMP:20260425T142557Z
SUMMARY:SEXY BEACH FINALS ~ THIS SUNDAY MAY 16!
DESCRIPTION:This Sunday May 16 Sexy Beach Finals at Delilah's hosted b
 y Adult Film Star GINA LYNN!\n\nJoin 12 of the \"World's Most Beautifu
 l Showgirls\" as they bring the heat and compete in our Sexy Beach bik
 ini contest finale, judged by crowd applause.\n\nThe winner of round t
 rip airfare and hotel to South Beach, Miami will be randomly selected 
 during the finals!\n\nQuench your every desire with sweet tea vodka sp
 ecials.\n\nFor more information visit http://phillytodo.com/events/sex
 y-beach-finals-this-sunday
DTSTART:20100516T230000Z
DTEND:20100517T060000Z
CATEGORIES:sexy, beach, finals
LOCATION:Delilah's
WEBSITE:http://www.delilahs.com
URL:http://www.delilahs.com
CONTACT:215-625-2800 x101
ORGANIZER;CN="Delilah's":http://phillytodo.com/profile/Delilahs
ATTACH;FMTTYPE="image/jpeg":http://storage.ning.com/topology/rest/1.0/
 file/get/3054946875?profile=original
ATTENDEE;ROLE=REQ-PARTICIPANT;PARTSTAT=ACCEPTED;RSVP=TRUE;CN="Delilah'
 s":http://phillytodo.com/profile/Delilahs
END:VEVENT
END:VCALENDAR
