BEGIN:VCALENDAR
PRODID:NingEventWidget-v1
VERSION:2.0
METHOD:PUBLISH
BEGIN:VEVENT
UID:4320450:Event:34609
DTSTAMP:20260425T172227Z
SUMMARY:Service Jam: Brainstorming a Better Philadelphia Through One o
 f the 5 Senses
DESCRIPTION:Under the umbrella of DesignPhiladelphia, this “Service 
 Jam” will be a high energy, interactive brainstorming session built 
 to allow participants to collaborate on new concepts for improving the
  Philadelphia public school system. Please RSVP in advance with Courtn
 ey Bolden at 215.625.7988 or via email at cbolden@skaibluemedia.com.\n
 \nFor more information visit http://phillytodo.com/events/service-jam-
 brainstorming-a-better-philadelphia-through-one-of
DTSTART:20131015T220000Z
DTEND:20131016T010000Z
CATEGORIES:brainstorm
LOCATION:A&G/Neiman Lab
WEBSITE:
URL:
CONTACT:215.625.7988
ORGANIZER;CN="Skai Blue Media":http://phillytodo.com/profile/SkaiBlueM
 edia
ATTACH;FMTTYPE="image/jpeg":
ATTENDEE;ROLE=REQ-PARTICIPANT;PARTSTAT=ACCEPTED;RSVP=TRUE;CN="Skai Blu
 e Media":http://phillytodo.com/profile/SkaiBlueMedia
END:VEVENT
END:VCALENDAR
