BEGIN:VCALENDAR
PRODID:NingEventWidget-v1
VERSION:2.0
METHOD:PUBLISH
BEGIN:VEVENT
UID:4320450:Event:60902
DTSTAMP:20260425T125758Z
SUMMARY:September Virtual First Friday Preview Hosted by CraftNOW
DESCRIPTION:On Thursday, September 3, join CraftNOW and partner instit
 utions for the ongoing CraftNOW series, Virtual First Friday Preview. 
 Spend your happy hour interacting with fellow arts and culture enthusi
 asts and hear from some of Philadelphia’s most prominent curators. C
 raftNOW’s Executive Director Leila Cartier will moderate the program
  and be joined by staff from participating art institutions Galerie Ma
 rie, Michener Art Museum, Da Vinci Art Alliance, and The Clay Studio f
 or 10-minute conversations and question and answer sessions. Additiona
 lly, Andrew Dahlgren and Heather Holiday will present their findings f
 rom the recent CraftNOW “Craft Business Survey,” which has led to 
 new insights about the current state of Philadelphia’s artisan commu
 nity and elevating the city’s Craft Capital.\n\nFor more information
  visit http://phillytodo.com/events/september-virtual-first-friday-pre
 view-hosted-by-craftnow
DTSTART:20200903T213000Z
DTEND:20200903T223000Z
CATEGORIES:first, friday, preview
LOCATION:Zoom
WEBSITE:https://www.craftnowphila.org/firstfridaypreview/
URL:https://www.craftnowphila.org/firstfridaypreview/
CONTACT:(215) 717-6135
ORGANIZER;CN="Bryan Chan":http://phillytodo.com/profile/BryanChan
ATTACH;FMTTYPE="image/jpeg":https://storage.ning.com/topology/rest/1.0
 /file/get/7554189856?profile=original
ATTENDEE;ROLE=REQ-PARTICIPANT;PARTSTAT=ACCEPTED;RSVP=TRUE;CN="Bryan Ch
 an":http://phillytodo.com/profile/BryanChan
END:VEVENT
END:VCALENDAR
