BEGIN:VCALENDAR
PRODID:NingEventWidget-v1
VERSION:2.0
METHOD:PUBLISH
BEGIN:VEVENT
UID:4320450:Event:24625
DTSTAMP:20260425T142749Z
SUMMARY:Seniors on the Move :: Innovation around Transportation
DESCRIPTION:Join GenPhilly to learn more about innovative ways to help
  seniors access different transportation options. For older adults, th
 ere is a very strong relationship between access to transportation and
  1) health outcomes, 2)ones’ ability to access social services, heal
 th facilities, and fresh fruits and vegetables and, 3) whether one is 
 physically active on a regular basis. [1]\n \nCome learn about progra
 ms in the area and what innovative models exist around the country. We
  hope that this event can catalyze new partnerships and programs in th
 e future.\n8:30 - 9 a.m. – Networking and Breakfast 9 – 11:30 a.m.
  - Program\n\n\"Innovative Models from around the Country\" presented 
 by Keynote Speaker\nKaren Wolf-Branigin\nDirector, National Center on 
 Senior Transportation (NCST)\n\nPanel: Lightning Presentations and Dis
 cussion\n\nRochelle Culbreath,  SEPTA\nAnthony Johnson, The Partnersh
 ip Transportation Management Association, Montgomery County\nAriel Ben
 -Amos, Mayor's Office of Transportation and Utilities\nJane M. Meconi,
  Delaware Valley Regional Planning Commission\n\n\nSpecial Thank You t
 o Our Sponsors\n  Questions or comments please contact GenPhilly@gmail
 .com.\nSpace limited to 70 Attendees! RSVP by February 29th\n or visit
  gptransportation.eventbrite.com\n\n \n[1]  PCA's Age-Friendly White
 paper.\nImage:anankkml / FreeDigitalPhotos.net\n\nFor more information
  visit http://phillytodo.com/events/seniors-on-the-move-innovation-aro
 und-transportation
DTSTART:20120309T133000Z
DTEND:20120309T163000Z
CATEGORIES:panel, discussion, young, professional
LOCATION:Delaware Valley Regional Planning Commission
WEBSITE:
URL:
CONTACT:
ORGANIZER;CN=GenPhilly:http://phillytodo.com/profile/GenPhilly
ATTACH;FMTTYPE="image/jpeg":http://storage.ning.com/topology/rest/1.0/
 file/get/3054958041?profile=original
ATTENDEE;ROLE=REQ-PARTICIPANT;PARTSTAT=ACCEPTED;RSVP=TRUE;CN=GenPhilly
 :http://phillytodo.com/profile/GenPhilly
END:VEVENT
END:VCALENDAR
