BEGIN:VCALENDAR
PRODID:NingEventWidget-v1
VERSION:2.0
METHOD:PUBLISH
BEGIN:VEVENT
UID:4320450:Event:51747
DTSTAMP:20260425T125013Z
SUMMARY:Seedlings at Andorra Library
DESCRIPTION:Join the Schuylkill Center at the Andorra Library for a 
 nature themed story and walk or activity.  Children, ages 2 – 6, wi
 ll have the opportunity to engage in nature-based activities and exper
 ience the wildlife and ecosystems of their local Andorra Library.\n\nF
 or more information visit http://phillytodo.com/events/seedlings-at-an
 dorra-library
DTSTART:20171021T170000Z
DTEND:20171021T180000Z
CATEGORIES:for, kids
LOCATION:Andorra Library
WEBSITE:http://www.schuylkillcenter.org/blog/event/seedlings-at-andorr
 a-library-2/
URL:http://www.schuylkillcenter.org/blog/event/seedlings-at-andorra-li
 brary-2/
CONTACT:(215)-482-7300
ORGANIZER;CN="The Schuylkill Center":http://phillytodo.com/profile/Ann
 aLehrMueser
ATTACH;FMTTYPE="image/jpeg":http://storage.ning.com/topology/rest/1.0/
 file/get/3055005071?profile=original
ATTENDEE;ROLE=REQ-PARTICIPANT;PARTSTAT=ACCEPTED;RSVP=TRUE;CN="The Schu
 ylkill Center":http://phillytodo.com/profile/AnnaLehrMueser
END:VEVENT
END:VCALENDAR
