BEGIN:VCALENDAR
PRODID:NingEventWidget-v1
VERSION:2.0
METHOD:PUBLISH
BEGIN:VEVENT
UID:4320450:Event:29533
DTSTAMP:20260425T125006Z
SUMMARY:Second Thursday & Young Professionals Preview Party
DESCRIPTION:Thursday, February 14, 2013 Second Thursday & Young Profes
 sionals Preview Party 6 – 9 pm\nMake your Valentine’s date with In
 Liquid.\nToast your way into a newfound love for the arts with drinks 
 by Art in the Age. Smash away those old-love blues with a heart-shaped
  piñata by AKWD. Make your ex jealous and circulate the crowd with RA
 W fashion models.\nA special, high-profile preview cocktail reception 
 and networking event for young professional leaders in the Philadelphi
 a area. Guests to this event will be among the first to view and place
  advance bids on the artwork and other items being offered for the ben
 efit. More importantly for the attendees, this event offers a rare cha
 nce for members of various young professional groups to meet, mingle, 
 and network.\nNot sure what to bid on? Enjoy our teaser of the items u
 p for auction.\nRegister here: bit.ly/v13-tix\nParticipating organizat
 ions to date: Arts and Business Council Arts Tech Philly Benjamin’s 
 Desk CultureWorks Greater Philadelphia Generation Stiletto/ Career War
 drobe Indy Hall Museum Council of Philadelphia PAFA  Philadelphia Area
  New Media Association (PANMA) Philadelphia Emerging Museum Profession
 als  Philadelphia Sculpture Gym Spruce Foundation Washington Square We
 st Civic Association William Way Community Center Young Friends of the
  PMA Young Involved Philadelphia Young Professional Network Young Xers
 \n\nFor more information visit http://phillytodo.com/events/second-thu
 rsday-young-professionals-preview-party
DTSTART:20130214T230000Z
DTEND:20130215T020000Z
CATEGORIES:networking
LOCATION:Crane Arts Building
WEBSITE:http://inliquid.org/happenings/inliquid-projects/benefit/yp/
URL:http://inliquid.org/happenings/inliquid-projects/benefit/yp/
CONTACT:215-235-3405
ORGANIZER:InLiquid
ATTACH;FMTTYPE="image/jpeg":http://storage.ning.com/topology/rest/1.0/
 file/get/3054963155?profile=original
ATTENDEE;ROLE=REQ-PARTICIPANT;PARTSTAT=ACCEPTED;RSVP=TRUE;CN="Erica Mi
 nutella":http://phillytodo.com/profile/EricaMinutella
END:VEVENT
END:VCALENDAR
