BEGIN:VCALENDAR
PRODID:NingEventWidget-v1
VERSION:2.0
METHOD:PUBLISH
BEGIN:VEVENT
UID:4320450:Event:171366
DTSTAMP:20260425T094243Z
SUMMARY:Second Thursday Gallery Nights at The Clay Studio
DESCRIPTION:Every Second Thursday, The Clay Studio joins Crane Arts an
 d NextFab in Second Thursday Gallery Nights, where galleries along the
  North American Street Arts Corridor are open late to highlight the ne
 ighborhood’s creative community. At The Clay Studio, visitors can ta
 ke a guided tour of the latest exhibition in the Jill Bonovitz Gallery
  and hear exhibiting artists talk at 6:30 p.m.\nIn February, The Clay 
 Studio will center its programming around its exhibition, Figuring Spa
 ce, an exhibition comprised of full-scale, figurative sculptures by 12
  leading ceramic artists based in the United States. During this speci
 al event, guests will have the opportunity to meet the curator and som
 e of the artists, and ask questions about the work while touring the e
 xhibition. Each artist explores their cultural identity and what it me
 ans to be human through their figurative sculptures.\n\nFor more infor
 mation visit http://phillytodo.com/events/second-thursday-gallery-nigh
 ts-at-the-clay-studio
DTSTART:20230209T220000Z
DTEND:20230210T010000Z
CATEGORIES:gallery
LOCATION:The Clay Studio
WEBSITE:https://www.theclaystudio.org/events
URL:https://www.theclaystudio.org/events
CONTACT:215-925-3453
ORGANIZER:The Clay Studio
ATTACH;FMTTYPE="image/jpeg":https://storage.ning.com/topology/rest/1.0
 /file/get/10950141261?profile=original
ATTENDEE;ROLE=REQ-PARTICIPANT;PARTSTAT=ACCEPTED;RSVP=TRUE;CN="En Route
  Marketing":http://phillytodo.com/profile/EnRouteMarketing
END:VEVENT
END:VCALENDAR
