BEGIN:VCALENDAR
PRODID:NingEventWidget-v1
VERSION:2.0
METHOD:PUBLISH
BEGIN:VEVENT
UID:4320450:Event:31611
DTSTAMP:20260425T124901Z
SUMMARY:Scrabble Club
DESCRIPTION:Think you are a wordsmith? Come to Scrabble Club. Every Tu
 esday starting at 4:30 p.m.\n\nFor more information visit http://phill
 ytodo.com/events/scrabble-club-1
DTSTART:20130416T203000Z
DTEND:20130416T223000Z
CATEGORIES:clubs, games, scrabble
LOCATION:Lansdowne Public Library
WEBSITE:http://lansdownepubliclibrary.com/
URL:http://lansdownepubliclibrary.com/
CONTACT:610-623-0239
ORGANIZER;CN="Lansdowne Public Library":http://phillytodo.com/profile/
 LansdownePublicLibrary
ATTACH;FMTTYPE="image/jpeg":http://storage.ning.com/topology/rest/1.0/
 file/get/3054963357?profile=original
ATTENDEE;ROLE=REQ-PARTICIPANT;PARTSTAT=ACCEPTED;RSVP=TRUE;CN="Lansdown
 e Public Library":http://phillytodo.com/profile/LansdownePublicLibrary
END:VEVENT
END:VCALENDAR
