BEGIN:VCALENDAR
PRODID:NingEventWidget-v1
VERSION:2.0
METHOD:PUBLISH
BEGIN:VEVENT
UID:4320450:Event:24423
DTSTAMP:20260425T161737Z
SUMMARY:Schumann | Beethoven
DESCRIPTION:Grammy Award winner and founding member of the Eroica Trio
  cellist Sara Sant'Ambrogio caps another season of distinguished soloi
 sts with a performance of Schumann's extraordinary Cello Concerto.  B
 eethoven's spirited Symphony No. 7 blooms with enthusiasm and vivacity
 .\n\nDirk Brossé, Conductor\nSara Sant'Ambrogio, Cello\n\nTickets $25
 \n\n\nFor more information visit http://phillytodo.com/events/schumann
 -beethoven-2
DTSTART:20120417T233000Z
DTEND:20120418T013000Z
CATEGORIES:concert
LOCATION:Temple University Performing Arts Center
WEBSITE:http://www.chamberorchestra.org/concerts/?id=39
URL:http://www.chamberorchestra.org/concerts/?id=39
CONTACT:(215) 204-9860
ORGANIZER;CN="Chamber Orchestra Philadelphia":http://phillytodo.com/pr
 ofile/AileenRimando
ATTACH;FMTTYPE="image/jpeg":
ATTENDEE;ROLE=REQ-PARTICIPANT;PARTSTAT=ACCEPTED;RSVP=TRUE;CN="Chamber 
 Orchestra Philadelphia":http://phillytodo.com/profile/AileenRimando
END:VEVENT
END:VCALENDAR
