BEGIN:VCALENDAR
PRODID:NingEventWidget-v1
VERSION:2.0
METHOD:PUBLISH
BEGIN:VEVENT
UID:4320450:Event:24614
DTSTAMP:20260425T160042Z
SUMMARY:Schumann | Beethoven
DESCRIPTION:Grammy Award winner and founding member of the Eroica Trio
  cellist Sara Sant'Ambrogio caps another season of distinguished soloi
 sts with a performance of Schumann's extraordinary Cello Concerto.  B
 eethoven's spirited Symphony No. 7 blooms with enthusiasm and vivacity
 .\n\nDirk Brossé, Conductor\nSara Sant'Ambrogio, Cello\n\nTickets $24
  - $81\n\n\nFor more information visit http://phillytodo.com/events/sc
 humann-beethoven-1
DTSTART:20120416T233000Z
DTEND:20120417T013000Z
CATEGORIES:concert
LOCATION:The Kimmel Center - Perelman Theater
WEBSITE:http://www.chamberorchestra.org/concerts/?id=39
URL:http://www.chamberorchestra.org/concerts/?id=39
CONTACT:(215) 545-1739
ORGANIZER;CN="Chamber Orchestra Philadelphia":http://phillytodo.com/pr
 ofile/AileenRimando
ATTACH;FMTTYPE="image/jpeg":
ATTENDEE;ROLE=REQ-PARTICIPANT;PARTSTAT=ACCEPTED;RSVP=TRUE;CN="Chamber 
 Orchestra Philadelphia":http://phillytodo.com/profile/AileenRimando
END:VEVENT
END:VCALENDAR
