BEGIN:VCALENDAR
PRODID:NingEventWidget-v1
VERSION:2.0
METHOD:PUBLISH
BEGIN:VEVENT
UID:4320450:Event:38059
DTSTAMP:20260425T141126Z
SUMMARY:Saturdays@SCEE
DESCRIPTION:Come out for weekly family fun.  First, we gather in the 
 Discovery Center for story time, then go on a naturalist-led walk on o
 ur trails, catching tadpoles, watching butterflies, exploring the wood
 s, and more. Free\n\nFor more information visit http://phillytodo.com
 /events/saturdays-scee
DTSTART:20140816T143000Z
DTEND:20140816T153000Z
CATEGORIES:familes, kids
LOCATION:The Schuylkill Center for Environmental Education
WEBSITE:http://www.schuylkillcenter.org/blog/event/saturdaysscee-2/201
 4-08-16/
URL:http://www.schuylkillcenter.org/blog/event/saturdaysscee-2/2014-08
 -16/
CONTACT:(215) 482-7300
ORGANIZER;CN="The Schuylkill Center":http://phillytodo.com/profile/Ann
 aLehrMueser
ATTACH;FMTTYPE="image/jpeg":http://storage.ning.com/topology/rest/1.0/
 file/get/3054980004?profile=original
ATTENDEE;ROLE=REQ-PARTICIPANT;PARTSTAT=ACCEPTED;RSVP=TRUE;CN="The Schu
 ylkill Center":http://phillytodo.com/profile/AnnaLehrMueser
END:VEVENT
END:VCALENDAR
