BEGIN:VCALENDAR
PRODID:NingEventWidget-v1
VERSION:2.0
METHOD:PUBLISH
BEGIN:VEVENT
UID:4320450:Event:45018
DTSTAMP:20260425T114107Z
SUMMARY:Saturdays@SCEE
DESCRIPTION:Wake up on your Saturday mornings and grab your hiking sho
 es for a naturalist-led exploration with your little ones.  We gather
  in the Discovery Center for story time and then hit the trails for gu
 ided exploration and discovery.\nThis is a weekly, recurring event.\n\
 nFor more information visit http://phillytodo.com/events/saturdays-sce
 e-2
DTSTART:20160130T153000Z
DTEND:20160227T163000Z
CATEGORIES:family, fun, weekly, "&", monthly
LOCATION:The Schuylkill Center for Environmental Education
WEBSITE:http://www.schuylkillcenter.org/blog/event/saturdaysscee-6/201
 6-01-31/
URL:http://www.schuylkillcenter.org/blog/event/saturdaysscee-6/2016-01
 -31/
CONTACT:215-482-7300
ORGANIZER:The Schuylkill Center for Environmental Education
ATTACH;FMTTYPE="image/jpeg":http://storage.ning.com/topology/rest/1.0/
 file/get/3054993481?profile=original
ATTENDEE;ROLE=REQ-PARTICIPANT;PARTSTAT=ACCEPTED;RSVP=TRUE;CN="The Schu
 ylkill Center":http://phillytodo.com/profile/AnnaLehrMueser
END:VEVENT
END:VCALENDAR
