BEGIN:VCALENDAR
PRODID:NingEventWidget-v1
VERSION:2.0
METHOD:PUBLISH
BEGIN:VEVENT
UID:4320450:Event:41438
DTSTAMP:20260425T173456Z
SUMMARY:Saturday Wellness Walk
DESCRIPTION:Trade the sweaty gym for open skies, fresh air, and friend
 ly company with an invigorating walk along our beautiful trails. The w
 alk will be led at a moderate pace, along one of our wider and more le
 vel trails.\n\nFor more information visit http://phillytodo.com/events
 /saturday-wellness-walk-6
DTSTART:20151128T190000Z
DTEND:20151128T200000Z
CATEGORIES:nature, walk
LOCATION:Schuylkill Center for Environmental Education
WEBSITE:http://www.schuylkillcenter.org/blog/event/saturday-wellness-w
 alk-5/2015-10-31/
URL:http://www.schuylkillcenter.org/blog/event/saturday-wellness-walk-
 5/2015-10-31/
CONTACT:215-482-7300, x110
ORGANIZER:
ATTACH;FMTTYPE="image/jpeg":http://storage.ning.com/topology/rest/1.0/
 file/get/3054988221?profile=original
ATTENDEE;ROLE=REQ-PARTICIPANT;PARTSTAT=ACCEPTED;RSVP=TRUE;CN="The Schu
 ylkill Center":http://phillytodo.com/profile/AnnaLehrMueser
END:VEVENT
END:VCALENDAR
