BEGIN:VCALENDAR
PRODID:NingEventWidget-v1
VERSION:2.0
METHOD:PUBLISH
BEGIN:VEVENT
UID:4320450:Event:38818
DTSTAMP:20260425T125010Z
SUMMARY:Saturday Wellness Walk
DESCRIPTION:Don’t stay cooped up inside when the weather turns cold 
 this winter!  Get out of the house and stretch those legs with an in
 vigorating walk along the Schuylkill Center’s beautiful trails.  Th
 e walk will be at a moderate pace, along one of our wider and more lev
 el trails.\nFree\n\nFor more information visit http://phillytodo.com/e
 vents/saturday-wellness-walk-4
DTSTART:20150131T190000Z
DTEND:20150131T200000Z
CATEGORIES:walk, hike
LOCATION:The Schuylkill Center for Environmental Education
WEBSITE:http://www.schuylkillcenter.org/
URL:http://www.schuylkillcenter.org/
CONTACT:215-482-7300, x110
ORGANIZER;CN="The Schuylkill Center":http://phillytodo.com/profile/Ann
 aLehrMueser
ATTACH;FMTTYPE="image/jpeg":http://storage.ning.com/topology/rest/1.0/
 file/get/3054980299?profile=original
ATTENDEE;ROLE=REQ-PARTICIPANT;PARTSTAT=ACCEPTED;RSVP=TRUE;CN="The Schu
 ylkill Center":http://phillytodo.com/profile/AnnaLehrMueser
END:VEVENT
END:VCALENDAR
