BEGIN:VCALENDAR
PRODID:NingEventWidget-v1
VERSION:2.0
METHOD:PUBLISH
BEGIN:VEVENT
UID:4320450:Event:38234
DTSTAMP:20260425T125006Z
SUMMARY:Saturday Wellness Walk
DESCRIPTION:Trade the sweaty gym for open skies, fresh air, and friend
 ly company with an invigorating walk along our beautiful trails.\n\nFo
 r more information visit http://phillytodo.com/events/saturday-wellnes
 s-walk-1
DTSTART:20141025T180000Z
DTEND:20141025T190000Z
CATEGORIES:walk
LOCATION:Schuylkill Center for Environmental Education
WEBSITE:http://www.schuylkillcenter.org/
URL:http://www.schuylkillcenter.org/
CONTACT:215-482-7300
ORGANIZER;CN="The Schuylkill Center":http://phillytodo.com/profile/Ann
 aLehrMueser
ATTACH;FMTTYPE="image/jpeg":http://storage.ning.com/topology/rest/1.0/
 file/get/3054980236?profile=original
ATTENDEE;ROLE=REQ-PARTICIPANT;PARTSTAT=ACCEPTED;RSVP=TRUE;CN="The Schu
 ylkill Center":http://phillytodo.com/profile/AnnaLehrMueser
END:VEVENT
END:VCALENDAR
