BEGIN:VCALENDAR
PRODID:NingEventWidget-v1
VERSION:2.0
METHOD:PUBLISH
BEGIN:VEVENT
UID:4320450:Event:23816
DTSTAMP:20260425T130712Z
SUMMARY:Saturday Night LIVE 2nd Saturday Dance Party
DESCRIPTION:\nFade 2 Black Entertainment  Presents\nSaturday Night LIV
 E 2nd Saturday Dance Party\nEach & Every\n2nd Saturday Of The Month\nS
 tarting Saturday March 10, 2012\n9pm - 2am\nAt The Savoy/Colleens Cate
 rers 1444 Rt. 73 \nPennsauken, New Jersey 08110\nFeaturing 2 Rooms Of 
 Entertainment\nRoom #1  The 2nd Saturday Dance Party Room\nDJ Shawn T 
 & DJ Long John \nSpinning all the Hits\nRoom #2 Saturday Night LIVE\nF
 eaturing\nJazz Recording Artist \nJUANITA HOLIDAY\nCelebration package
 s available\nFree Parking, Cash Bar, Drink Specials Food for purchase\
 nDress Is Fashionable: NO Jeans, Sneakers, or Sports Wear\nTickets: $1
 5.00 in Advance  More at door\nWWW.Fade2BlackEntertainment.com Join Ou
 r E-Mail List\nFor more Info Contact DJ Shawn T\n267.977.4312\nClick H
 ere http://www.fade2blackentertainment.com/fade_2_black_entertainment_
 website2012_006.htm\nTickets In Your Area Click Here\nhttp://www.fade2
 blackentertainment.com/fade_2_black_entertainment_website2012_010.htm\
 nPurchase Tickets Online Click Here\nhttp://f2be2ndsaturday.eventbrite
 .com/\nDirections To Venue  Click Here\nhttp://www.fade2blackentertain
 ment.com/fade_2_black_entertainment_website2012_004.htm\n\nFor more in
 formation visit http://phillytodo.com/events/saturday-night-live-2nd-s
 aturday-dance-party
DTSTART:20120311T020000Z
DTEND:20120311T060000Z
CATEGORIES:party, dj, night, club, entertainment, live, dance, life
LOCATION:The Savoy/Colleens Caterers
WEBSITE:http://www.fade2blackentertainment.com/
URL:http://www.fade2blackentertainment.com/
CONTACT:267.977.4312
ORGANIZER;CN="Fade 2 Black Entertainment":http://phillytodo.com/profil
 e/OlSkoolEntertainment749
ATTACH;FMTTYPE="image/jpeg":http://storage.ning.com/topology/rest/1.0/
 file/get/3054958018?profile=original
ATTENDEE;ROLE=REQ-PARTICIPANT;PARTSTAT=ACCEPTED;RSVP=TRUE;CN="Fade 2 B
 lack Entertainment":http://phillytodo.com/profile/OlSkoolEntertainment
 749
END:VEVENT
END:VCALENDAR
