BEGIN:VCALENDAR
PRODID:NingEventWidget-v1
VERSION:2.0
METHOD:PUBLISH
BEGIN:VEVENT
UID:4320450:Event:46767
DTSTAMP:20260425T143230Z
SUMMARY:Saturday Night at the Movies
DESCRIPTION:Let the force be with you as you watch Star Wars: The For
 ce Awakens on the Great Lawn! Bring a blanket, movie admission is FRE
 E. Tickets are required for the Parx Liberty Carousel and Philly Mini 
 Golf. Games and pre-show activities start at 7, movie begins at 9 pm.\
 n\nFor more information visit http://phillytodo.com/events/saturday-ni
 ght-at-the-movies
DTSTART:20160806T230000Z
DTEND:20160807T030000Z
CATEGORIES:movie, night
LOCATION:Franklin Square
WEBSITE:http://historicphiladelphia.org/franklin-square/upcoming-event
 s/
URL:http://historicphiladelphia.org/franklin-square/upcoming-events/
CONTACT:
ORGANIZER:
ATTACH;FMTTYPE="image/jpeg":http://storage.ning.com/topology/rest/1.0/
 file/get/3054995503?profile=original
ATTENDEE;ROLE=REQ-PARTICIPANT;PARTSTAT=ACCEPTED;RSVP=TRUE;CN="Bryan Ch
 an":http://phillytodo.com/profile/BryanChan
END:VEVENT
END:VCALENDAR
