BEGIN:VCALENDAR
PRODID:NingEventWidget-v1
VERSION:2.0
METHOD:PUBLISH
BEGIN:VEVENT
UID:4320450:Event:41315
DTSTAMP:20260425T144651Z
SUMMARY:Saturday Night at the Movies - Ghostbusters
DESCRIPTION:Bring a blanket and watch a movie on the Great Lawn. Games
  and pre-show activities start at 7, movie begins at 9 pm.\n\nFor more
  information visit http://phillytodo.com/events/saturday-night-at-the-
 movies-ghostbusters
DTSTART:20150905T230000Z
DTEND:20150906T030000Z
CATEGORIES:summer, free, movie
LOCATION:Franklin Square
WEBSITE:
URL:
CONTACT:
ORGANIZER:Historic Philadelphia, Inc.
ATTACH;FMTTYPE="image/jpeg":
ATTENDEE;ROLE=REQ-PARTICIPANT;PARTSTAT=ACCEPTED;RSVP=TRUE;CN="Cari Fei
 ler Bender":http://phillytodo.com/profile/CariFeilerBender
END:VEVENT
END:VCALENDAR
