BEGIN:VCALENDAR
PRODID:NingEventWidget-v1
VERSION:2.0
METHOD:PUBLISH
BEGIN:VEVENT
UID:4320450:Event:1405
DTSTAMP:20260425T175133Z
SUMMARY:Satellite Second Saturday
DESCRIPTION:Saturday, May 8 is the next Satellite Second Saturday, a m
 onthly art and craft event at 50th & Baltimore, presented by West Phil
 ly's VIX Emporium and the Satellite Cafe. Find the perfect Mother's Da
 y gift among the wondrous handmade wares by local artisan vendors at t
 he outdoor craft fair, from 11 to 5 on the triangle in front of the Fi
 rehouse. At VIX, dress a doll magnet for Mom with \"Me & My Sisters\" 
 at a free craft workshop from 12 to 4. Neighbors Younglove's Vintage h
 osts an opening for photographer Molly Landergan at 5 and Dock Street 
 brewpub joins the fun with food & drink specials. Live music throughou
 t the day and refreshments too.\n\nFor more information visit http://p
 hillytodo.com/events/satellite-second-saturday
DTSTART:20100508T150000Z
DTEND:20100508T210000Z
CATEGORIES:craft, fair
LOCATION:VIX Emporium
WEBSITE:http://vixemporium.com
URL:http://vixemporium.com
CONTACT:2154717700
ORGANIZER;CN="VIX Emporium":http://phillytodo.com/profile/VIXEmporium
ATTACH;FMTTYPE="image/jpeg":http://storage.ning.com/topology/rest/1.0/
 file/get/3054946501?profile=original
ATTENDEE;ROLE=REQ-PARTICIPANT;PARTSTAT=ACCEPTED;RSVP=TRUE;CN="VIX Empo
 rium":http://phillytodo.com/profile/VIXEmporium
END:VEVENT
END:VCALENDAR
