BEGIN:VCALENDAR
PRODID:NingEventWidget-v1
VERSION:2.0
METHOD:PUBLISH
BEGIN:VEVENT
UID:4320450:Event:2208
DTSTAMP:20260425T142548Z
SUMMARY:Satellite Second Saturday
DESCRIPTION:On the 11th, it's time for another Second Saturday, with a
  craft fair of talented and diverse local artisan vendors offering the
 ir handmade wares in the triangle in front of the Firehouse at 50th & 
 Baltimore. Upstairs at Firehouse Bikes, enjoy 10% off anything in thei
 r stock of new and vintage bikes and bike accessories. Music will be p
 rovided by Lion Versus (performing at 3pm) and DJ Danophonic. Vendor s
 paces still remain; please email satellite2ndsaturday@gmail.com to reg
 ister. Spaces are $15 or $25, weather permitting.\n\nAt VIX Emporium, 
 this month's special guest will be Lisa Volta of Volta Organics. Lisa'
 s soaps have a dedicated following and for good reason. Each bar is ma
 de of wholesome, all-natural oils, essences, clays and herbs that are 
 sustainably sourced and usually organic. Her significant knowledge of 
 therapeutic herbology combined with her art & design skills make for a
  distinctive line of bath & body products, which she has continuously 
 refined over the past 9 years. Her home-based business now stocks 12 l
 ocal shops and continues to grow. On Saturday, she will be here from 1
 2 to 3 to represent her entire collection of soaps, balms, powders and
  potions and to share a bit about her process, including examples of s
 ome of her equipment and raw materials. If you've ever wanted to know 
 what it takes to make great soap, now's your chance to ask an expert! 
 Refreshments will be served.\n\nFor more information visit http://phil
 lytodo.com/events/satellite-second-saturday-1
DTSTART:20100911T160000Z
DTEND:20100911T210000Z
CATEGORIES:craft, fair
LOCATION:50th and Baltimore
WEBSITE:http://vixemporium.com
URL:http://vixemporium.com
CONTACT:2154717700
ORGANIZER;CN="VIX Emporium":http://phillytodo.com/profile/VIXEmporium
ATTACH;FMTTYPE="image/jpeg":http://storage.ning.com/topology/rest/1.0/
 file/get/3054950560?profile=original
ATTENDEE;ROLE=REQ-PARTICIPANT;PARTSTAT=ACCEPTED;RSVP=TRUE;CN="VIX Empo
 rium":http://phillytodo.com/profile/VIXEmporium
END:VEVENT
END:VCALENDAR
