BEGIN:VCALENDAR
PRODID:NingEventWidget-v1
VERSION:2.0
METHOD:PUBLISH
BEGIN:VEVENT
UID:4320450:Event:34162
DTSTAMP:20260425T144301Z
SUMMARY:Saree Soirée
DESCRIPTION:Sarees are the most fashionable, elegant, and breath- taki
 ngly feminine piece worn by ladies in India. Join us to learn how to s
 tyle these complex garments in a fun afternoon out with friends at anj
 uthreads. RSVP here: http://bit.ly/18P4pcN \n\nFor more information v
 isit http://phillytodo.com/events/saree-soir-e
DTSTART:20130921T160000Z
DTEND:20130921T180000Z
CATEGORIES:special, event
LOCATION:anjuthreads
WEBSITE:
URL:
CONTACT:
ORGANIZER;CN="Skai Blue Media":http://phillytodo.com/profile/SkaiBlueM
 edia
ATTACH;FMTTYPE="image/jpeg":
ATTENDEE;ROLE=REQ-PARTICIPANT;PARTSTAT=ACCEPTED;RSVP=TRUE;CN="Skai Blu
 e Media":http://phillytodo.com/profile/SkaiBlueMedia
END:VEVENT
END:VCALENDAR
