BEGIN:VCALENDAR
PRODID:NingEventWidget-v1
VERSION:2.0
METHOD:PUBLISH
BEGIN:VEVENT
UID:4320450:Event:3069
DTSTAMP:20260425T142539Z
SUMMARY:Santa’s Arrival Event at Suburban Square, Ardmore PA
DESCRIPTION:Join us in the Courtyard, when Santa arrives full of holid
 ay magic! At 10am Santa's friends will be in the Courtyard greeting wi
 th goodies. Santa's horse-drawn carriage parade begins at Trader Joe's
  and ends in the Courtyard at 11am. Enjoy music from the School of Roc
 k Main Line's \"Delta Squad\", too! Please bring a non-perishable food
  item for PHILABUNDANCE. Don't forget to get your free photo with Sant
 a from Noon to 2pm at Macy's.\n\nFor more information visit http://phi
 llytodo.com/events/santas-arrival-event-at
DTSTART:20101127T150000Z
DTEND:20101127T200000Z
CATEGORIES:holiday
LOCATION:Suburban Square
WEBSITE:
URL:
CONTACT:
ORGANIZER;CN="Emily kanter":http://phillytodo.com/profile/Emilykanter
ATTACH;FMTTYPE="image/jpeg":http://storage.ning.com/topology/rest/1.0/
 file/get/3054951005?profile=original
ATTENDEE;ROLE=REQ-PARTICIPANT;PARTSTAT=ACCEPTED;RSVP=TRUE;CN="Emily ka
 nter":http://phillytodo.com/profile/Emilykanter
END:VEVENT
END:VCALENDAR
