BEGIN:VCALENDAR
PRODID:NingEventWidget-v1
VERSION:2.0
METHOD:PUBLISH
BEGIN:VEVENT
UID:4320450:Event:35250
DTSTAMP:20260425T130616Z
SUMMARY:Santa's South Street Stumble
DESCRIPTION:Itâ€™s the most wonderful time for beer! South Street Head
 house District will be filled with the sounds of jolly laughter as hun
 dreds of Santas partake in the annual Santaâ€™s South Street Stumble o
 n Saturday, December 14, 2013, from 6:00pm to Midnight. For only $5.00
 , guests will receive a special SSHD Santa hat, available at the Headh
 ouse Square Shambles until 9pm or at any participating bar, that entit
 les them to discounted drinks and cocktails at 13 bars and restaurants
 . Proceeds will benefit the John S. and James L. Knight Foundation, Kn
 ight Arts Challenge Grant.Â Stumble will happen rain or shine, and is 
 open to participants 21 and older with valid identification. For a lis
 t of participating bars and restaurants, visitÂ southstreet.com, callÂ
  (215) 413-3713 or follow @officialsouthst on Twitter.\n\nFor more inf
 ormation visit http://phillytodo.com/events/santa-s-south-street-stumb
 le
DTSTART:20131214T230000Z
DTEND:20131215T170000Z
CATEGORIES:fundraiser, bar, crawl
LOCATION:Headhouse Square Shambles
WEBSITE:http://www.southstreet.com
URL:http://www.southstreet.com
CONTACT:(215) 413-3713
ORGANIZER;CN="Aversa PR & Events":http://phillytodo.com/profile/KoryAv
 ersa277
ATTACH;FMTTYPE="image/jpeg":http://storage.ning.com/topology/rest/1.0/
 file/get/3054972789?profile=original
ATTENDEE;ROLE=REQ-PARTICIPANT;PARTSTAT=ACCEPTED;RSVP=TRUE;CN="Aversa P
 R & Events":http://phillytodo.com/profile/KoryAversa277
END:VEVENT
END:VCALENDAR
