BEGIN:VCALENDAR
PRODID:NingEventWidget-v1
VERSION:2.0
METHOD:PUBLISH
BEGIN:VEVENT
UID:4320450:Event:22104
DTSTAMP:20260425T142644Z
SUMMARY:Santa's Arrival at Suburban Square
DESCRIPTION:Suburban Square’s holiday festivities kick off with Sant
 a’s Arrival on November 26th from 11 a.m. to 12 p.m. in the Ardmore 
 Farmer’s Market at Suburban Square. Santa will give away free treats
 , cookies, hot chocolate, coloring books and other items.\n At noon, S
 anta will head over to Macy’s 4th floor for free keepsake photos. Af
 ter November 26th, Santa will also be at Macy’s for free keepsake ph
 otos on additional dates.\n \nSanta’s Arrival at Ardmore Farmer’s
  Market Saturday, November 26th, 11 a.m.-12 p.m.\n\nSanta at Macy’s 
 for free keepsake photos\n Saturday, November 26th, 12-3 p.m.\nSaturda
 y, December 3rd, 12-2 p.m.\nSunday, December 4th, 12-2 p.m.\nSaturday,
  December 10th, 12-2 p.m.\nSunday, December 11th, 12-2 p.m.\n\nFor mor
 e information visit http://phillytodo.com/events/santa-s-arrival-at-su
 burban-square
DTSTART:20111126T160000Z
DTEND:20111211T190000Z
CATEGORIES:holiday, festivities
LOCATION:Suburban Square
WEBSITE:http://www.suburbansquare.com
URL:http://www.suburbansquare.com
CONTACT:610-896-7560
ORGANIZER:Neff Associates
ATTACH;FMTTYPE="image/jpeg":http://storage.ning.com/topology/rest/1.0/
 file/get/3054954951?profile=original
ATTENDEE;ROLE=REQ-PARTICIPANT;PARTSTAT=ACCEPTED;RSVP=TRUE;CN="Lauren W
 enzel":http://phillytodo.com/profile/JacklinRhoads
END:VEVENT
END:VCALENDAR
