BEGIN:VCALENDAR
PRODID:NingEventWidget-v1
VERSION:2.0
METHOD:PUBLISH
BEGIN:VEVENT
UID:4320450:Event:35062
DTSTAMP:20260425T161343Z
SUMMARY:Santa PAWS at the Hotel Palomar Philadelphia
DESCRIPTION:This Saturday, December 7th and Sunday, December 8th fr
 om 2:00 pm to 4:00 pm, all Philadelphia locals and hotel guests are i
 nvited to stop by the Hotel Palomar’s living room with their furry f
 riends for a photo-op with Santa! A photographer will be on hand to en
 sure frame-worthy shots but visitors can also capture the moment on th
 eir personal cameras or cell phones so all of their Facebook and Insta
 gram followers can share in the holiday cheer! Seasonal refreshments a
 nd treats will be available for all. \n \nWhether they’ve been bad
  or good, every furry friend who has their photo taken will receive a 
 swag bag filled with holiday goodies. Additionally, a lucky pet owner 
 will receive a complimentary “Pup Perfection” package including 
 one overnight stay at the hotel and the royal-pup treatment at a local
  pet salon for their four-legged companion.\n \nThis year, the event 
 will benefit PAWS, Philadelphia’s largest no-kill shelter and low-c
 ost animal clinic serving pet owners and rescue organizations that lac
 k access to affordable basic veterinary care. At the event, PAWS will 
 be showcasing pets searching for loving homes this holiday season as w
 ell as taking donations. \n\nFor more information visit http://philly
 todo.com/events/santa-paws-at-the-hotel-palomar-philadelphia
DTSTART:20131207T190000Z
DTEND:20131208T210000Z
CATEGORIES:holiday, family, fun, pets
LOCATION:Hotel Palomar Philadelphia
WEBSITE:http://www.hotelpalomar-philadelphia.com/
URL:http://www.hotelpalomar-philadelphia.com/
CONTACT:
ORGANIZER:PAWS
ATTACH;FMTTYPE="image/jpeg":http://storage.ning.com/topology/rest/1.0/
 file/get/3054968566?profile=original
ATTENDEE;ROLE=REQ-PARTICIPANT;PARTSTAT=ACCEPTED;RSVP=TRUE;CN="Jessica 
 McGuinn":http://phillytodo.com/profile/JessicaMcGuinn
END:VEVENT
END:VCALENDAR
