BEGIN:VCALENDAR
PRODID:NingEventWidget-v1
VERSION:2.0
METHOD:PUBLISH
BEGIN:VEVENT
UID:4320450:Event:35215
DTSTAMP:20260425T185634Z
SUMMARY:Santa Comes to the Farm!
DESCRIPTION:Santa Claus is making a few special trips to Linvilla to h
 ear all the good little boys and girls' Christmas wishes. Visit Santa 
 any Saturday or Sunday beginning December 1 through 22 from 12 to 3 pm
 . Make sure to bring your camera to cherish the moment for years to co
 me.\n\nFor more information visit http://phillytodo.com/events/santa-c
 omes-to-the-farm
DTSTART:20131201T170000Z
DTEND:20131222T200000Z
CATEGORIES:holiday, fun, for, the, family
LOCATION:Linvilla Orchards
WEBSITE:http://www.linvilla.com
URL:http://www.linvilla.com
CONTACT:610-876-7116
ORGANIZER:Jaime Morris
ATTACH;FMTTYPE="image/jpeg":
ATTENDEE;ROLE=REQ-PARTICIPANT;PARTSTAT=ACCEPTED;RSVP=TRUE;CN="Tina Bre
 slow":http://phillytodo.com/profile/TinaBreslow
END:VEVENT
END:VCALENDAR
