BEGIN:VCALENDAR
PRODID:NingEventWidget-v1
VERSION:2.0
METHOD:PUBLISH
BEGIN:VEVENT
UID:4320450:Event:54304
DTSTAMP:20260425T124915Z
SUMMARY:Santa Baby
DESCRIPTION:Get in the holiday spirit at our Santa Baby party on Satur
 day, December 16!\nEnjoy pictures with Santa, and kisses under the Mis
 tletoe.\nDress in your best Holiday Sweater & ENTER TO WIN awesome pri
 zes from our pile of wrapped presents.\nEvent begins 9pm.\n\nFor more 
 information visit http://phillytodo.com/events/santa-baby
DTSTART:20171217T020000Z
DTEND:20171217T070000Z
CATEGORIES:holiday, party
LOCATION:XFINITY Live! Philadelphia
WEBSITE:http://www.xfinitylive.com/entertainment/event/11732
URL:http://www.xfinitylive.com/entertainment/event/11732
CONTACT:
ORGANIZER;CN="XFINITY Live! Philadelphia":http://phillytodo.com/profil
 e/XFINITYLivePhiladelphia
ATTACH;FMTTYPE="image/jpeg":http://storage.ning.com/topology/rest/1.0/
 file/get/3055010054?profile=original
ATTENDEE;ROLE=REQ-PARTICIPANT;PARTSTAT=ACCEPTED;RSVP=TRUE;CN="XFINITY 
 Live! Philadelphia":http://phillytodo.com/profile/XFINITYLivePhiladelp
 hia
END:VEVENT
END:VCALENDAR
