BEGIN:VCALENDAR
PRODID:NingEventWidget-v1
VERSION:2.0
METHOD:PUBLISH
BEGIN:VEVENT
UID:4320450:Event:33060
DTSTAMP:20260425T142616Z
SUMMARY:Salvation Army Open House Event
DESCRIPTION:The Salvation Army will host an Open House event at its Te
 mple Corps Community Center on July 18 to raise awareness of its new P
 eer Mentoring Program, which serves parents who struggle with hunger a
 nd food insecurity who are raising young children. Guests will have th
 e opportunity to hear from Salvation Army leadership and tour the faci
 lity.\n\nFor more information about this event visit: http://www.use.s
 alvationarmy.org/use/www_use_philadelphiadhq.nsf/vw-dynamic-index/0642
 0A155AE9271685257B98006FE6D9?openDocument . \n\nDon’t forget to fol
 low us on Twitter at @SalArmyPhilly  \n\nFor more information visit h
 ttp://phillytodo.com/events/salvation-army-open-house-event
DTSTART:20130718T220000Z
DTEND:20130719T000000Z
CATEGORIES:community, awareness
LOCATION:Temple Corps Community Center
WEBSITE:http://www.use.salvationarmy.org/use/www_use_philadelphiadhq.n
 sf/vw-dynamic-index/06420A155AE9271685257B98006FE6D9?openDocument
URL:http://www.use.salvationarmy.org/use/www_use_philadelphiadhq.nsf/v
 w-dynamic-index/06420A155AE9271685257B98006FE6D9?openDocument
CONTACT:
ORGANIZER:The Salvation Army
ATTACH;FMTTYPE="image/jpeg":
ATTENDEE;ROLE=REQ-PARTICIPANT;PARTSTAT=ACCEPTED;RSVP=TRUE;CN="Jeremy K
 eys":http://phillytodo.com/profile/JeremyKeys
END:VEVENT
END:VCALENDAR
