BEGIN:VCALENDAR
PRODID:NingEventWidget-v1
VERSION:2.0
METHOD:PUBLISH
BEGIN:VEVENT
UID:4320450:Event:33123
DTSTAMP:20260425T203545Z
SUMMARY:Salvation Army Christmas in July Kettle Day
DESCRIPTION:Local celebrities and mascots will help The Salvation Army
  of Greater Philadelphia celebrate the month-long Christmas in July fu
 ndraising campaign Wednesdays in July at various locations throughout 
 Center City. Special lunchtime events and appearances beginning at 12p
 m will make the public aware of the urgency to provide basic needs fun
 ding for struggling Philadelphians.\n\nFor more information about this
  event visit: http://www.use.salvationarmy.org/use/www_use_philadelphi
 adhq.nsf/vw-dynamic-index/06420A155AE9271685257B98006FE6D9?openDocumen
 t . \n\nDon’t forget to follow us on Twitter at @SalArmyPhilly  \n
 \nFor more information visit http://phillytodo.com/events/salvation-ar
 my-christmas-in-july-kettle-day
DTSTART:20130717T160000Z
DTEND:20130717T180000Z
CATEGORIES:fundraiser
LOCATION:Center City
WEBSITE:http://www.use.salvationarmy.org/use/www_use_philadelphiadhq.n
 sf/vw-dynamic-index/06420A155AE9271685257B98006FE6D9?openDocument
URL:http://www.use.salvationarmy.org/use/www_use_philadelphiadhq.nsf/v
 w-dynamic-index/06420A155AE9271685257B98006FE6D9?openDocument
CONTACT:
ORGANIZER:The Salvation Army
ATTACH;FMTTYPE="image/jpeg":
ATTENDEE;ROLE=REQ-PARTICIPANT;PARTSTAT=ACCEPTED;RSVP=TRUE;CN="Jeremy K
 eys":http://phillytodo.com/profile/JeremyKeys
END:VEVENT
END:VCALENDAR
