BEGIN:VCALENDAR
PRODID:NingEventWidget-v1
VERSION:2.0
METHOD:PUBLISH
BEGIN:VEVENT
UID:4320450:Event:39847
DTSTAMP:20260425T173731Z
SUMMARY:Salsa Saturdays with Society Hill Dance Academy
DESCRIPTION:Warm up your Saturday afternoon with a couple’s salsa cl
 ass! Each participant will receive a $5 voucher to The Market & Shops 
 at Comcast Center to quench your thirst, a $50 gift card, and a free c
 lass voucher for Society Hill Dance Academy. A happy, flirtatious and 
 exuberant personality is highly suggested. Make sure to RSVP to Cashma
 n & Associates at Cashmanandassociates.com/rsvp. \n\nFor more informa
 tion visit http://phillytodo.com/events/salsa-saturdays-with-society-h
 ill-dance-academy
DTSTART:20150228T183000Z
DTEND:20150228T193000Z
CATEGORIES:class
LOCATION:Market & Shops at Comcast Center
WEBSITE:https://www.facebook.com/events/646555368790102
URL:https://www.facebook.com/events/646555368790102
CONTACT:(215) 496-1810
ORGANIZER;CN=CashmanAssoc:http://phillytodo.com/profile/CashmanAssoc
ATTACH;FMTTYPE="image/jpeg":http://storage.ning.com/topology/rest/1.0/
 file/get/3054986955?profile=original
ATTENDEE;ROLE=REQ-PARTICIPANT;PARTSTAT=ACCEPTED;RSVP=TRUE;CN=CashmanAs
 soc:http://phillytodo.com/profile/CashmanAssoc
END:VEVENT
END:VCALENDAR
