BEGIN:VCALENDAR
PRODID:NingEventWidget-v1
VERSION:2.0
METHOD:PUBLISH
BEGIN:VEVENT
UID:4320450:Event:41530
DTSTAMP:20260425T144256Z
SUMMARY:Salsa On the Plaza
DESCRIPTION:Heat Up Your Saturday Afternoon with an outdoor Latin Danc
 e class on the Plaza of the Comcast Center!\n \nEnjoy Intro to Salsa,
  Bachata & Merengue hosted by the experts at Society Hill Dance Academ
 y. No prior dance experience needed, singles are welcome! Class starts
  at 1:30pm\n \nEach participant will receive a $5 voucher to The Mark
 et & Shops at Comcast Center to quench your thirst and a free class vo
 ucher for Society Hill Dance Academy.\n \nRSVP to Cashman & Associate
 s\nCashmanandassociates.com/rsvp\n \nhttps://www.facebook.com/events/
 1714478452109455/\n \n \nTweet with us @MarketComcast and @SHDAPhill
 y\n\nFor more information visit http://phillytodo.com/events/salsa-on-
 the-square
DTSTART:20150718T173000Z
DTEND:20150718T183000Z
CATEGORIES:special, event
LOCATION:The Market & Shops at Comcast Center.
WEBSITE:https://www.facebook.com/events/1714478452109455/
URL:https://www.facebook.com/events/1714478452109455/
CONTACT:2156271060
ORGANIZER;CN=CashmanAssoc:http://phillytodo.com/profile/CashmanAssoc
ATTACH;FMTTYPE="image/jpeg":
ATTENDEE;ROLE=REQ-PARTICIPANT;PARTSTAT=ACCEPTED;RSVP=TRUE;CN=CashmanAs
 soc:http://phillytodo.com/profile/CashmanAssoc
END:VEVENT
END:VCALENDAR
