BEGIN:VCALENDAR
PRODID:NingEventWidget-v1
VERSION:2.0
METHOD:PUBLISH
BEGIN:VEVENT
UID:4320450:Event:25920
DTSTAMP:20260425T124843Z
SUMMARY:Sakura Sunday
DESCRIPTION:Sun., April 15: Sakura Sunday â€“ Join Shofuso and Japan A
 merican Society of Greater Philadelphia for the annual Subaru Cherry B
 lossom Festival.Â  Additional festival entrance fee to access the Hort
 icultural Center grounds and Shofuso. Free admission and activities at
  Sakura Pavilion. Ikebana Exhibition free at Sakura Pavilion. 11 am â€
 “ 4 pm. $5 non-member/member & under 14 free.\n\nFor more information 
 visit http://phillytodo.com/events/sakura-sunday
DTSTART:20120415T150000Z
DTEND:20120415T200000Z
CATEGORIES:cherry, blossom, festival
LOCATION:Shofuso Japanese House and Garden
WEBSITE:http://www.shofuso.com
URL:http://www.shofuso.com
CONTACT:215-878-5097
ORGANIZER:Shofuso Japanese House and Garden
ATTACH;FMTTYPE="image/jpeg":http://storage.ning.com/topology/rest/1.0/
 file/get/3054958332?profile=original
ATTENDEE;ROLE=REQ-PARTICIPANT;PARTSTAT=ACCEPTED;RSVP=TRUE;CN="Cari Fei
 ler Bender":http://phillytodo.com/profile/CariFeilerBender
END:VEVENT
END:VCALENDAR
