BEGIN:VCALENDAR
PRODID:NingEventWidget-v1
VERSION:2.0
METHOD:PUBLISH
BEGIN:VEVENT
UID:4320450:Event:41501
DTSTAMP:20260425T141342Z
SUMMARY:Safety Day at Please Touch Museum
DESCRIPTION:Meet Firefighter Andy Brown and his friends from the Phila
 delphia Fire Department. Kids can try on real firefighter gear, see an
 d touch a real life Fire Engine and Ladder Truck at 11AM and 1PM and m
 ore! Don’t miss special guest Kohl’s Prevention Center Vehicle fo
 r helmet fittings and important safety tips.\n\nFor more information v
 isit http://phillytodo.com/events/safety-day-at-please-touch-museum
DTSTART:20150725T130000Z
DTEND:20150725T210000Z
CATEGORIES:family
LOCATION:Please Touch Museum
WEBSITE:http://ow.ly/P3DkW
URL:http://ow.ly/P3DkW
CONTACT:2155813181
ORGANIZER;CN="Please Touch Museum":http://phillytodo.com/profile/Pleas
 eTouchMuseum
ATTACH;FMTTYPE="image/jpeg":http://storage.ning.com/topology/rest/1.0/
 file/get/3054987935?profile=original
ATTENDEE;ROLE=REQ-PARTICIPANT;PARTSTAT=ACCEPTED;RSVP=TRUE;CN="Please T
 ouch Museum":http://phillytodo.com/profile/PleaseTouchMuseum
END:VEVENT
END:VCALENDAR
