BEGIN:VCALENDAR
PRODID:NingEventWidget-v1
VERSION:2.0
METHOD:PUBLISH
BEGIN:VEVENT
UID:4320450:Event:168040
DTSTAMP:20260425T112536Z
SUMMARY:Ryan Wilson Kelly: Anxious Assembly
DESCRIPTION:“Anxious Assembly ” is a new exhibition on display at 
 The Clay Studio featuring works by Ryan Wilson Kelly that combines his
  sense of humor, craftsmanship, and love of historical ceramics. In a 
 series of ceramic busts based on 18th century British political satire
 , Kelly depicts expressive faces with a shared sense of anxiety. Creat
 ed during the pandemic lockdown, Kelly’s new body of work unintentio
 nally captures the discomfort and uncertainty many have felt during th
 e last year, which allows for a uniquely personal connection to these 
 figures that all can experience. The exhibition will be on display at 
 The Clay Studio’s Bonovitz Gallery from April 3 to May 2, 2021.\n\nV
 irtual tours available by appointment. Email Jennifer Zwilling at jzwi
 lling@theclaystudio.org\n\nFor more information visit http://phillytod
 o.com/events/ryan-wilson-kelly-anxious-assembly
DTSTART:20210403T150000Z
DTEND:20210502T220000Z
CATEGORIES:art, gallery, exhibition
LOCATION:The Clay Studio
WEBSITE:https://www.theclaystudio.org/exhibitions/anxious-assembly
URL:https://www.theclaystudio.org/exhibitions/anxious-assembly
CONTACT:(215) 925-3453 x 23
ORGANIZER:Jennifer Zwilling
ATTACH;FMTTYPE="image/jpeg":https://storage.ning.com/topology/rest/1.0
 /file/get/8684740659?profile=original
ATTENDEE;ROLE=REQ-PARTICIPANT;PARTSTAT=ACCEPTED;RSVP=TRUE;CN="Bryan Ch
 an":http://phillytodo.com/profile/BryanChan
END:VEVENT
END:VCALENDAR
