BEGIN:VCALENDAR
PRODID:NingEventWidget-v1
VERSION:2.0
METHOD:PUBLISH
BEGIN:VEVENT
UID:4320450:Event:168904
DTSTAMP:20260425T114107Z
SUMMARY:Ryan Hartnett
DESCRIPTION:Manayunk is excited to be bringing back Out & About in MNY
 K to Main Street! In honor of National Coming Out Day in October, Out 
 & About in MNYK will host LGBTQ+ organizations and entertainment to pr
 omote Manayunk as a safe place that welcomes everyone.\n \nFriday\nRo
 cky Horror Picture Show: 8PM | Venice Island: Buy Tickets on our Websi
 te\nDrag Bingo: TBD | Participating Restaurants\n \nSaturday\nStreet 
 Fest: 11AM - 4PM | Main Street\nAunt Mary Pat: 8PM | Venice Island: Bu
 y Tickets on our Website\n \nSunday\nSidewalk Showgirls: TBD | mini d
 rag show at participating restaurants\n\nFor more information visit ht
 tp://phillytodo.com/events/ryan-hartnett
DTSTART:20211001T040000Z
DTEND:20211004T035900Z
CATEGORIES:festival
LOCATION:Manayunk
WEBSITE:http://manayunk.com/events/out-and-about-in-mnyk.html
URL:http://manayunk.com/events/out-and-about-in-mnyk.html
CONTACT:2154829565
ORGANIZER;CN="Manayunk Development Corporation":http://phillytodo.com/
 profile/ManayunkDevelopmentCorporation
ATTACH;FMTTYPE="image/jpeg":
ATTENDEE;ROLE=REQ-PARTICIPANT;PARTSTAT=ACCEPTED;RSVP=TRUE;CN="Manayunk
  Development Corporation":http://phillytodo.com/profile/ManayunkDevelo
 pmentCorporation
END:VEVENT
END:VCALENDAR
