BEGIN:VCALENDAR
PRODID:NingEventWidget-v1
VERSION:2.0
METHOD:PUBLISH
BEGIN:VEVENT
UID:4320450:Event:32296
DTSTAMP:20260425T123417Z
SUMMARY:Rust Belt Rising Almanac Release Party
DESCRIPTION:The Head & The Hand Press, a new independent publishing co
 mpany in Kensington, is releasing its inaugural publication, the Rus
 t Belt Rising Almanac.\nTo celebrate the release of this publication, 
 the whole Frankford Ave. neighborhood is coming together for this Firs
 t Friday. Fourteen local businesses will be carrying the anthology, Al
 manac contributor Jeffrey Ziga of Little Baby’s Ice Cream will perfo
 rm a reading atop their parklet, where they will be offering an Almana
 c-inspired ice cream flavor, and there will be a celebratory dance par
 ty at the Philadelphia Sculpture Gym’s beautifully renovated warehou
 se workspace at 9 p.m. with more Almanac readings and special guest DJ
  SnkPak.\n\nFor more information visit http://phillytodo.com/events/ru
 st-belt-rising-almanac-release-party
DTSTART:20130607T220000Z
DTEND:20130608T020000Z
CATEGORIES:book, release, party
LOCATION:Philadelphia Sculpture Gym
WEBSITE:http://www.theheadandthehand.com/events/the-rust-belt-rising-a
 lmanac-release-party/
URL:http://www.theheadandthehand.com/events/the-rust-belt-rising-alman
 ac-release-party/
CONTACT:281-787-2677
ORGANIZER;CN="The Head & The Hand Press":http://phillytodo.com/profile
 /TheHeadTheHandPress
ATTACH;FMTTYPE="image/jpeg":http://storage.ning.com/topology/rest/1.0/
 file/get/3054965664?profile=original
ATTENDEE;ROLE=REQ-PARTICIPANT;PARTSTAT=ACCEPTED;RSVP=TRUE;CN="The Head
  & The Hand Press":http://phillytodo.com/profile/TheHeadTheHandPress
END:VEVENT
END:VCALENDAR
