BEGIN:VCALENDAR
PRODID:NingEventWidget-v1
VERSION:2.0
METHOD:PUBLISH
BEGIN:VEVENT
UID:4320450:Event:38129
DTSTAMP:20260425T144802Z
SUMMARY:Ruba Presents: Family Vacation, Little Anchor, Former Belle, T
 he Ruby Shots
DESCRIPTION:Family Vacation http://familyvacationmusic.bandcamp.com/ I
 ndie rock band based out of Temple University. Imagining Built to Spil
 l mixed with Vampire Weekend, their energetic live shows always entert
 ain  Little Anchor http://littleanchor.bandcamp.com/ Brooklyn based fo
 ur piece that blends the storytelling and simplicity of the Northwest 
 with New York influenced pop sensibility.   Former Belle (Solo)  The
  Ruby Shots http://therubyshots.bandcamp.com/ Dylan Eshbaugh and Blake
  Zuschnitt are The Ruby Shots, an indie synth/guitar pop band from the
  Philadelphia area. They strive for echoing melodies that shimmer with
  layers of darker tones and dynamic drumbeats. Their songs combine the
  streets of the city with the boardwalk by the ocean. Influences inclu
 de New Order, The Cure, and The Smiths. They just released their debut
  EP, Aide-Mémoire\n\nFor more information visit http://phillytodo.com
 /events/ruba-presents-family-vacation-little-anchor-former-belle-the-r
 uby
DTSTART:20140822T000000Z
DTEND:20140822T050000Z
CATEGORIES:concert
LOCATION:Ruba Club Studios
WEBSITE:https://www.facebook.com/events/1503991669835897/?ref_dashboar
 d_filter=upcoming
URL:https://www.facebook.com/events/1503991669835897/?ref_dashboard_fi
 lter=upcoming
CONTACT:215-962-9901
ORGANIZER:Ruba Club
ATTACH;FMTTYPE="image/jpeg":http://storage.ning.com/topology/rest/1.0/
 file/get/3054980232?profile=original
ATTENDEE;ROLE=REQ-PARTICIPANT;PARTSTAT=ACCEPTED;RSVP=TRUE;CN="Rachel B
 arrish":http://phillytodo.com/profile/RachelBarrish
END:VEVENT
END:VCALENDAR
