BEGIN:VCALENDAR
PRODID:NingEventWidget-v1
VERSION:2.0
METHOD:PUBLISH
BEGIN:VEVENT
UID:4320450:Event:55096
DTSTAMP:20260425T110857Z
SUMMARY:Royal Bash
DESCRIPTION:Keep calm & party on at 251 Dekalb’s Royal Bash on May 1
 9, 2018 from 12-2pm. Celebrate Harry & Meghan’s royal nuptials with 
 a day bash featuring various British-inspired experiences. Enjoy music
 , a bloody mary & mimosa bar, sweet & savory brunch bites, british-ins
 pired decor and more!\n\nPlease reserve your free ticket by May 18th 2
 51-DEKALB.TICKETLEAP.COM/ROYALBASH\n\nFor more information visit http:
 //phillytodo.com/events/royal-bash
DTSTART:20180519T160000Z
DTEND:20180519T180000Z
CATEGORIES:special, event
LOCATION:251 Dekalb
WEBSITE:https://www.google.com/maps/place/251+W+Dekalb+Pike,+King+of+P
 russia,+PA+19406/@40.0907722,-75.3699339,17z/data=!3m1!4b1!4m5!3m4!1s0
 x89c695c3f649f79d:0x38afe91572ee9a15!8m2!3d40.0907681!4d-75.3677452
URL:https://www.google.com/maps/place/251+W+Dekalb+Pike,+King+of+Pruss
 ia,+PA+19406/@40.0907722,-75.3699339,17z/data=!3m1!4b1!4m5!3m4!1s0x89c
 695c3f649f79d:0x38afe91572ee9a15!8m2!3d40.0907681!4d-75.3677452
CONTACT:888- 476-4942
ORGANIZER:
ATTACH;FMTTYPE="image/jpeg":http://storage.ning.com/topology/rest/1.0/
 file/get/3055011544?profile=original
ATTENDEE;ROLE=REQ-PARTICIPANT;PARTSTAT=ACCEPTED;RSVP=TRUE;CN=CashmanAs
 soc:http://phillytodo.com/profile/CashmanAssoc
END:VEVENT
END:VCALENDAR
