BEGIN:VCALENDAR
PRODID:NingEventWidget-v1
VERSION:2.0
METHOD:PUBLISH
BEGIN:VEVENT
UID:4320450:Event:25421
DTSTAMP:20260425T124905Z
SUMMARY:Rowan Gallery: 'High/Low Density'
DESCRIPTION:Rowan University Art Gallery presents this group exhibit s
 howcasing artists working in diverse media who consider, respond to or
  critique patterns within urban and suburban built environments. Co-cu
 rated by Mark Campbell and Mary Salvante, the exhibition runs March 26
  – May 12, with an opening reception on Thursday, March 29 from 5:30
  – 7 pm.\n\nFor more information visit http://phillytodo.com/events/
 rowan-gallery-high-low-density
DTSTART:20120327T020000Z
DTEND:20120512T210000Z
CATEGORIES:art, exhibition
LOCATION:Rowan University Art Gallery
WEBSITE:http://www.rowan.edu/artgallery
URL:http://www.rowan.edu/artgallery
CONTACT:856-256-4521
ORGANIZER:Mary Salvante
ATTACH;FMTTYPE="image/jpeg":
ATTENDEE;ROLE=REQ-PARTICIPANT;PARTSTAT=ACCEPTED;RSVP=TRUE;CN="Dennis D
 ougherty":http://phillytodo.com/profile/DennisDougherty
END:VEVENT
END:VCALENDAR
