BEGIN:VCALENDAR
PRODID:NingEventWidget-v1
VERSION:2.0
METHOD:PUBLISH
BEGIN:VEVENT
UID:4320450:Event:168403
DTSTAMP:20260425T141343Z
SUMMARY:Roosevelt Mall Flea Market
DESCRIPTION:Over 150 vendors every Sunday April thru November featurin
 g new, used and vintage merchandise.\n\nPlenty of free parking and fre
 e admission!\n\nFor more information visit http://phillytodo.com/event
 s/roosevelt-mall-flea-market
DTSTART:20210627T120000Z
DTEND:20210627T200000Z
CATEGORIES:flea, market
LOCATION:Roosevelt Mall
WEBSITE:http://www.PhilaFleaMarkets.org
URL:http://www.PhilaFleaMarkets.org
CONTACT:215 - 625 - 3532
ORGANIZER;CN="Phila Flea Markets":http://phillytodo.com/profile/PhilaF
 leaMarkets
ATTACH;FMTTYPE="image/jpeg":
ATTENDEE;ROLE=REQ-PARTICIPANT;PARTSTAT=ACCEPTED;RSVP=TRUE;CN="Phila Fl
 ea Markets":http://phillytodo.com/profile/PhilaFleaMarkets
END:VEVENT
END:VCALENDAR
