BEGIN:VCALENDAR
PRODID:NingEventWidget-v1
VERSION:2.0
METHOD:PUBLISH
BEGIN:VEVENT
UID:4320450:Event:45096
DTSTAMP:20260425T144655Z
SUMMARY:Rooms in Bloom at Historic Strawberry Mansion
DESCRIPTION:Join us as we celebrate spring with the art of floral desi
 gn within the exquisite settings of six historic houses in Fairmount P
 ark. Explore each house’s first floor, decorated by local garden cl
 ubs and florists, inspired by the house's architecture, collections an
 d interior design. Friendly hosts will greet you and answer questions 
 regarding the displays and the house’s rich history.  Outside the t
 rees will be blooming , giving the exteriors a springtime glow.\n\nFor
  more information visit http://phillytodo.com/events/rooms-in-bloom-at
 -historic-strawberry-mansion
DTSTART:20160416T140000Z
DTEND:20160417T200000Z
CATEGORIES:exhibit
LOCATION:Fairmount Park
WEBSITE:http://parkcharms.com/rooms-in-bloom/
URL:http://parkcharms.com/rooms-in-bloom/
CONTACT:51622oo526
ORGANIZER:Park Charms
ATTACH;FMTTYPE="image/jpeg":http://storage.ning.com/topology/rest/1.0/
 file/get/3054991258?profile=original
ATTENDEE;ROLE=REQ-PARTICIPANT;PARTSTAT=ACCEPTED;RSVP=TRUE;CN="Bryan Ch
 an":http://phillytodo.com/profile/BryanChan
END:VEVENT
END:VCALENDAR
