BEGIN:VCALENDAR
PRODID:NingEventWidget-v1
VERSION:2.0
METHOD:PUBLISH
BEGIN:VEVENT
UID:4320450:Event:1327
DTSTAMP:20260425T142649Z
SUMMARY:Ron Jaworski's Celebrity Golf Challenge
DESCRIPTION:Join in on the fun and mingle with celebs at Ron Jaworski'
 s Celebrity Golf Challenge to benefit the United Way Jaws Youth Fund. 
 The annual event is held in partnership with Harrah's Resort, and incl
 udes a VIP reception, $100,000 Celebrity Shoot-Out, Pairings Party at 
 the Harrah's Pool, and the \"Kick-Off\" and \"Closing Drive\" Celebrit
 y-AM Tournament.\n\nThis year, Joe Flacco, Mike Tirico, Justin Gimelst
 ob, Joe Theisman, Brent Celek, Bill Cowher and Dean Norris are among t
 he celebs who will join Jaws at this highly anticipated event. The RJC
 GC raises approximately $200,000 each year through sponsorship, donati
 ons and ticket sales. All proceeds go to the Jaws Youth Fund, a partne
 rship of the Jaworski Family and the United Way of Camden County works
  to promote the future success of at-risk youth by assisting programs 
 that provide leadership and growth opportunities for disadvantaged you
 th. The foundation has raised more than $3 million to date.\n\nFor mor
 e information visit http://phillytodo.com/events/ron-jaworskis-celebri
 ty-golf
DTSTART:20100516T160000Z
DTEND:20100517T190000Z
CATEGORIES:sports, golf, eagles, casino, celebrity, ron, jaworski, cha
 rity
LOCATION:Harrah's, Atlantic City, NJ
WEBSITE:http://www.jawsyouthfund.org
URL:http://www.jawsyouthfund.org
CONTACT:215.627.4747 x 104
ORGANIZER:Laura Krebs
ATTACH;FMTTYPE="image/jpeg":http://storage.ning.com/topology/rest/1.0/
 file/get/3054946412?profile=original
ATTENDEE;ROLE=REQ-PARTICIPANT;PARTSTAT=ACCEPTED;RSVP=TRUE;CN="Lauren W
 enzel":http://phillytodo.com/profile/JacklinRhoads
END:VEVENT
END:VCALENDAR
