BEGIN:VCALENDAR
PRODID:NingEventWidget-v1
VERSION:2.0
METHOD:PUBLISH
BEGIN:VEVENT
UID:4320450:Event:52559
DTSTAMP:20260425T142701Z
SUMMARY:Rocky Horror Drag Queen Show
DESCRIPTION:\nOn Saturday, October 28th, the Rocky Horror Picture Show
  at Hard Rock Cafe gets a Drag Queen makeover, when the queens take-ov
 er and pay homage to the 1975 classic camp film- The Rocky Horror Pict
 ure Show. The show is a multi-media lip-syncing-and-dancing interactiv
 e spin on everyone’s favorite rock and roll fantasy film.\nThe Rocky
  Horror Drag Queen Show stars Philadelphia’s most fabulous and fierc
 est drag queens lead by RuPaul’s Drag Race All-Star Mimi Imfurst.\n\
 n\n\n\n\nFor more information visit http://phillytodo.com/events/rocky
 -horror-drag-queen-show
DTSTART:20171029T020000Z
DTEND:20171029T040000Z
CATEGORIES:halloween, event
LOCATION:Hard Rock Cafe Philadelphia
WEBSITE:http://www.hrcphillymusic.com/event/1568635-rocky-horror-drag-
 queen-show-philadelphia/
URL:http://www.hrcphillymusic.com/event/1568635-rocky-horror-drag-quee
 n-show-philadelphia/
CONTACT:
ORGANIZER:Hard Rock Cafe Philadelphia
ATTACH;FMTTYPE="image/jpeg":
ATTENDEE;ROLE=REQ-PARTICIPANT;PARTSTAT=ACCEPTED;RSVP=TRUE;CN=CashmanAs
 soc:http://phillytodo.com/profile/CashmanAssoc
END:VEVENT
END:VCALENDAR
